View In:
ArcGIS JavaScript
ArcGIS Online Map Viewer
ArcGIS Earth
ArcMap
View Footprint In:
ArcGIS Online Map Viewer
Service Description: Cemetery_Imagery
Name: Cemetery_Imagery
Description:
Single Fused Map Cache: false
Extent:
XMin: 5004137.792566389
YMin: 3822089.316862315
XMax: 5006457.917519306
YMax: 3824343.1525777318
Spatial Reference: 102763
(3089)
Initial Extent:
XMin: 5004137.792566389
YMin: 3822089.316862315
XMax: 5006457.917519306
YMax: 3824343.1525777318
Spatial Reference: 102763
(3089)
Full Extent:
XMin: 5004137.792566389
YMin: 3822089.316862315
XMax: 5006457.917519306
YMax: 3824343.1525777318
Spatial Reference: 102763
(3089)
Pixel Size X: 0.4999191883035956
Pixel Size Y: 0.49996355710222246
Band Count: 4
Pixel Type: U16
RasterFunction Infos: {"rasterFunctionInfos": [{
"name": "None",
"description": "",
"help": ""
}]}
Mensuration Capabilities:
Has Histograms: true
Has Colormap: false
Has Multi Dimensions : false
Rendering Rule:
Min Scale: 0
Max Scale: 0
Copyright Text:
Service Data Type: esriImageServiceDataTypeGeneric
Min Values: 1, 1, 1, 0
Max Values: 254, 254, 254, 255
Mean Values: 87.438471666943, 89.522985963655, 84.636433657517, 86.752851334295
Standard Deviation Values: 41.685908642504, 40.240304511009, 35.275730747166, 42.093632319034
Object ID Field:
Fields:
None
Default Mosaic Method: Center
Allowed Mosaic Methods:
SortField:
SortValue: null
Mosaic Operator: First
Default Compression Quality: 75
Default Resampling Method: Bilinear
Max Record Count: null
Max Image Height: 4100
Max Image Width: 15000
Max Download Image Count: null
Max Mosaic Image Count: null
Allow Raster Function: true
Allow Copy: true
Allow Analysis: true
Allow Compute TiePoints: false
Supports Statistics: false
Supports Advanced Queries: false
Use StandardizedQueries: true
Raster Type Infos:
Name: Raster Dataset
Description: Supports all ArcGIS Raster Datasets
Help:
Has Raster Attribute Table: false
Edit Fields Info: null
Ownership Based AccessControl For Rasters: null
Child Resources:
Info
Histograms
Statistics
Key Properties
Legend
Raster Function Infos
Supported Operations:
Export Image
Identify
Compute Histograms
Compute Statistics Histograms
Get Samples
Compute Class Statistics
Query Boundary
Compute Pixel Location
Compute Angles
Validate
Project